BEGIN:VCALENDAR
BEGIN:VEVENT
SUMMARY:Funeral notice for COLE\, Leonie Margaret
DTSTART:20260422T000000
DTEND:20260423T000000
DTSTAMP:20260423T210505Z
UID:6354877
DESCRIPTION:For the Funeral time and location details\, please view the no
 tice on the My Tributes site. (https://www.southernriverinanews.com.au/tri
 butes/notice/funeral-notices/cole-leonie-margaret/6354877/)
END:VEVENT
END:VCALENDAR
