BEGIN:VCALENDAR
BEGIN:VEVENT
SUMMARY:Funeral notice for CASEY (NEE MCHUGHES)\, Margarett Dawn
DTSTART:20260501T000000
DTEND:20260502T000000
DTSTAMP:20260420T082524Z
UID:6354874
DESCRIPTION:For the Funeral time and location details\, please view the no
 tice on the My Tributes site. (https://www.southernriverinanews.com.au/tri
 butes/notice/funeral-notices/casey-nee-mchughes-margarett-dawn/6354874/)
END:VEVENT
END:VCALENDAR
