BEGIN:VCALENDAR
BEGIN:VEVENT
SUMMARY:Funeral notice for PORRICIELLO\, Mario
DTSTART:20260424T000000
DTEND:20260425T000000
DTSTAMP:20260425T142442Z
UID:6354825
DESCRIPTION:For the Funeral time and location details\, please view the no
 tice on the My Tributes site. (https://www.southernriverinanews.com.au/tri
 butes/notice/funeral-notices/porriciello-mario/6354825/)
END:VEVENT
END:VCALENDAR
