BEGIN:VCALENDAR
BEGIN:VEVENT
SUMMARY:Funeral notice for STEPHENSON\, Prem
DTSTART:20260421T000000
DTEND:20260422T000000
DTSTAMP:20260421T045101Z
UID:6354747
DESCRIPTION:For the Funeral time and location details\, please view the no
 tice on the My Tributes site. (https://www.southernriverinanews.com.au/tri
 butes/notice/funeral-notices/stephenson-prem/6354747/)
END:VEVENT
END:VCALENDAR
