BEGIN:VCALENDAR
BEGIN:VEVENT
SUMMARY:Funeral notice for SINCLAIR\, Ian William
DTSTART:20260424T000000
DTEND:20260425T000000
DTSTAMP:20260421T031228Z
UID:6354735
DESCRIPTION:For the Funeral time and location details\, please view the no
 tice on the My Tributes site. (https://www.southernriverinanews.com.au/tri
 butes/notice/funeral-notices/sinclair-ian-william/6354735/)
END:VEVENT
END:VCALENDAR
