BEGIN:VCALENDAR
BEGIN:VEVENT
SUMMARY:Funeral notice for DANIEL\, Frank
DTSTART:20260423T000000
DTEND:20260424T000000
DTSTAMP:20260422T230638Z
UID:6354704
DESCRIPTION:For the Funeral time and location details\, please view the no
 tice on the My Tributes site. (https://www.southernriverinanews.com.au/tri
 butes/notice/funeral-notices/daniel-frank/6354704/)
END:VEVENT
END:VCALENDAR
