BEGIN:VCALENDAR
BEGIN:VEVENT
SUMMARY:Funeral notice for DUSZYNSKI\, Wendy Ash
DTSTART:20260424T000000
DTEND:20260425T000000
DTSTAMP:20260423T182520Z
UID:6354650
DESCRIPTION:For the Funeral time and location details\, please view the no
 tice on the My Tributes site. (https://www.southernriverinanews.com.au/tri
 butes/notice/funeral-notices/duszynski-wendy-ash/6354650/)
END:VEVENT
END:VCALENDAR
