BEGIN:VCALENDAR
BEGIN:VEVENT
SUMMARY:Funeral notice for SOWTER\, Frances Grace
DTSTART:20260429T000000
DTEND:20260430T000000
DTSTAMP:20260422T091718Z
UID:6354634
DESCRIPTION:For the Funeral time and location details\, please view the no
 tice on the My Tributes site. (https://www.southernriverinanews.com.au/tri
 butes/notice/funeral-notices/sowter-frances-grace/6354634/)
END:VEVENT
END:VCALENDAR
