BEGIN:VCALENDAR
BEGIN:VEVENT
SUMMARY:Funeral notice for KELSO\, Gwenderlene
DTSTART:20260423T000000
DTEND:20260424T000000
DTSTAMP:20260422T032547Z
UID:6354484
DESCRIPTION:For the Funeral time and location details\, please view the no
 tice on the My Tributes site. (https://www.southernriverinanews.com.au/tri
 butes/notice/funeral-notices/kelso-gwenderlene/6354484/)
END:VEVENT
END:VCALENDAR
