BEGIN:VCALENDAR
BEGIN:VEVENT
SUMMARY:Funeral notice for SODOMACO\, Ivy Anne
DTSTART:20260424T000000
DTEND:20260425T000000
DTSTAMP:20260422T073026Z
UID:6354401
DESCRIPTION:For the Funeral time and location details\, please view the no
 tice on the My Tributes site. (https://www.southernriverinanews.com.au/tri
 butes/notice/funeral-notices/sodomaco-ivy-anne/6354401/)
END:VEVENT
END:VCALENDAR
