BEGIN:VCALENDAR
BEGIN:VEVENT
SUMMARY:Funeral notice for GOETZ\, Pauline Therese
DTSTART:20260423T000000
DTEND:20260424T000000
DTSTAMP:20260423T141300Z
UID:6354381
DESCRIPTION:For the Funeral time and location details\, please view the no
 tice on the My Tributes site. (https://www.southernriverinanews.com.au/tri
 butes/notice/funeral-notices/goetz-pauline-therese/6354381/)
END:VEVENT
END:VCALENDAR
