BEGIN:VCALENDAR
BEGIN:VEVENT
SUMMARY:Funeral notice for GYMER\, Christopher John (Chris)
DTSTART:20260420T000000
DTEND:20260421T000000
DTSTAMP:20260420T064129Z
UID:6354347
DESCRIPTION:For the Funeral time and location details\, please view the no
 tice on the My Tributes site. (https://www.southernriverinanews.com.au/tri
 butes/notice/funeral-notices/gymer-christopher-john-chris/6354347/)
END:VEVENT
END:VCALENDAR
