BEGIN:VCALENDAR
BEGIN:VEVENT
SUMMARY:Funeral notice for COLE\, John Patrick
DTSTART:20260424T000000
DTEND:20260425T000000
DTSTAMP:20260421T012716Z
UID:6354333
DESCRIPTION:For the Funeral time and location details\, please view the no
 tice on the My Tributes site. (https://www.southernriverinanews.com.au/tri
 butes/notice/funeral-notices/cole-john-patrick/6354333/)
END:VEVENT
END:VCALENDAR
