BEGIN:VCALENDAR
BEGIN:VEVENT
SUMMARY:Funeral notice for HARRISON\, Kathleen Margaret
DTSTART:20260422T000000
DTEND:20260423T000000
DTSTAMP:20260422T235723Z
UID:6354282
DESCRIPTION:For the Funeral time and location details\, please view the no
 tice on the My Tributes site. (https://www.southernriverinanews.com.au/tri
 butes/notice/funeral-notices/harrison-kathleen-margaret/6354282/)
END:VEVENT
END:VCALENDAR
