BEGIN:VCALENDAR
BEGIN:VEVENT
SUMMARY:Funeral notice for BIRCH\, Marlene Clare
DTSTART:20260421T000000
DTEND:20260422T000000
DTSTAMP:20260421T022543Z
UID:6354279
DESCRIPTION:For the Funeral time and location details\, please view the no
 tice on the My Tributes site. (https://www.southernriverinanews.com.au/tri
 butes/notice/funeral-notices/birch-marlene-clare/6354279/)
END:VEVENT
END:VCALENDAR
