BEGIN:VCALENDAR
BEGIN:VEVENT
SUMMARY:Funeral notice for SANFORD\, Terence Ivor
DTSTART:20260421T000000
DTEND:20260422T000000
DTSTAMP:20260421T134224Z
UID:6354211
DESCRIPTION:For the Funeral time and location details\, please view the no
 tice on the My Tributes site. (https://www.southernriverinanews.com.au/tri
 butes/notice/funeral-notices/sanford-terence-ivor/6354211/)
END:VEVENT
END:VCALENDAR
