BEGIN:VCALENDAR
BEGIN:VEVENT
SUMMARY:Funeral notice for HUTCHINSON\, Marie Catherine
DTSTART:20260417T000000
DTEND:20260418T000000
DTSTAMP:20260422T032719Z
UID:6354176
DESCRIPTION:For the Funeral time and location details\, please view the no
 tice on the My Tributes site. (https://www.southernriverinanews.com.au/tri
 butes/notice/funeral-notices/hutchinson-marie-catherine/6354176/)
END:VEVENT
END:VCALENDAR
