BEGIN:VCALENDAR
BEGIN:VEVENT
SUMMARY:Funeral notice for READY\, Yvonne Elsie
DTSTART:20260423T000000
DTEND:20260424T000000
DTSTAMP:20260426T045137Z
UID:6354137
DESCRIPTION:For the Funeral time and location details\, please view the no
 tice on the My Tributes site. (https://www.southernriverinanews.com.au/tri
 butes/notice/funeral-notices/ready-yvonne-elsie/6354137/)
END:VEVENT
END:VCALENDAR
