BEGIN:VCALENDAR
BEGIN:VEVENT
SUMMARY:Funeral notice for HEGARTY\, Janette 'Jan'
DTSTART:20260420T000000
DTEND:20260421T000000
DTSTAMP:20260421T135620Z
UID:6354097
DESCRIPTION:For the Funeral time and location details\, please view the no
 tice on the My Tributes site. (https://www.southernriverinanews.com.au/tri
 butes/notice/funeral-notices/hegarty-janette-jan/6354097/)
END:VEVENT
END:VCALENDAR
