BEGIN:VCALENDAR
BEGIN:VEVENT
SUMMARY:Funeral notice for MAYOH\, June Patricia
DTSTART:20260417T000000
DTEND:20260418T000000
DTSTAMP:20260420T010211Z
UID:6354081
DESCRIPTION:For the Funeral time and location details\, please view the no
 tice on the My Tributes site. (https://www.southernriverinanews.com.au/tri
 butes/notice/funeral-notices/mayoh-june-patricia/6354081/)
END:VEVENT
END:VCALENDAR
