BEGIN:VCALENDAR
BEGIN:VEVENT
SUMMARY:Funeral notice for BELPERIO\, Luigi
DTSTART:20260422T000000
DTEND:20260423T000000
DTSTAMP:20260420T114859Z
UID:6354026
DESCRIPTION:For the Funeral time and location details\, please view the no
 tice on the My Tributes site. (https://www.southernriverinanews.com.au/tri
 butes/notice/funeral-notices/belperio-luigi/6354026/)
END:VEVENT
END:VCALENDAR
