BEGIN:VCALENDAR
BEGIN:VEVENT
SUMMARY:Funeral notice for HANN\, Geoffrey Stephen 'Geoff'
DTSTART:20260421T000000
DTEND:20260422T000000
DTSTAMP:20260426T050432Z
UID:6354011
DESCRIPTION:For the Funeral time and location details\, please view the no
 tice on the My Tributes site. (https://www.southernriverinanews.com.au/tri
 butes/notice/funeral-notices/hann-geoffrey-stephen-geoff/6354011/)
END:VEVENT
END:VCALENDAR
