BEGIN:VCALENDAR
BEGIN:VEVENT
SUMMARY:Funeral notice for BROWN\, Robert Ernest Harvey
DTSTART:20260420T000000
DTEND:20260421T000000
DTSTAMP:20260424T084721Z
UID:6353955
DESCRIPTION:For the Funeral time and location details\, please view the no
 tice on the My Tributes site. (https://www.southernriverinanews.com.au/tri
 butes/notice/funeral-notices/brown-robert-ernest-harvey/6353955/)
END:VEVENT
END:VCALENDAR
