BEGIN:VCALENDAR
BEGIN:VEVENT
SUMMARY:Funeral notice for ETTORRE\, Anna
DTSTART:20260416T000000
DTEND:20260417T000000
DTSTAMP:20260423T183227Z
UID:6353715
DESCRIPTION:For the Funeral time and location details\, please view the no
 tice on the My Tributes site. (https://www.southernriverinanews.com.au/tri
 butes/notice/funeral-notices/ettorre-anna/6353715/)
END:VEVENT
END:VCALENDAR
