BEGIN:VCALENDAR
BEGIN:VEVENT
SUMMARY:Funeral notice for FRY\, Philip William
DTSTART:20260417T000000
DTEND:20260418T000000
DTSTAMP:20260420T064028Z
UID:6353398
DESCRIPTION:For the Funeral time and location details\, please view the no
 tice on the My Tributes site. (https://www.southernriverinanews.com.au/tri
 butes/notice/funeral-notices/fry-philip-william/6353398/)
END:VEVENT
END:VCALENDAR
