BEGIN:VCALENDAR
BEGIN:VEVENT
SUMMARY:Funeral notice for BROCKWELL\, Leonard William
DTSTART:20260415T000000
DTEND:20260416T000000
DTSTAMP:20260424T070931Z
UID:6353248
DESCRIPTION:For the Funeral time and location details\, please view the no
 tice on the My Tributes site. (https://www.southernriverinanews.com.au/tri
 butes/notice/funeral-notices/brockwell-leonard-william/6353248/)
END:VEVENT
END:VCALENDAR
